BEGIN:VCALENDAR
VERSION:2.0
PRODID:-//Vinoliva Restaurant and Bar - ECPv6.6.2//NONSGML v1.0//EN
CALSCALE:GREGORIAN
METHOD:PUBLISH
X-ORIGINAL-URL:https://vinolivarestaurant.com.np
X-WR-CALDESC:Events for Vinoliva Restaurant and Bar
REFRESH-INTERVAL;VALUE=DURATION:PT1H
X-Robots-Tag:noindex
X-PUBLISHED-TTL:PT1H
BEGIN:VTIMEZONE
TZID:Asia/Kathmandu
BEGIN:STANDARD
TZOFFSETFROM:+0545
TZOFFSETTO:+0545
TZNAME:+0545
DTSTART:20230101T000000
END:STANDARD
END:VTIMEZONE
BEGIN:VEVENT
DTSTART;TZID=Asia/Kathmandu:20230306T110000
DTEND;TZID=Asia/Kathmandu:20230306T170000
DTSTAMP:20260425T164406
CREATED:20230228T055538Z
LAST-MODIFIED:20230228T062527Z
UID:4121-1678100400-1678122000@vinolivarestaurant.com.np
SUMMARY:Holi Fest 2023
DESCRIPTION:HOLI FEST 2023\nWe are excited to invite you to our “Holi Fest 2023” celebration at Vinoliva Restaurant and Bar! \nJoin us on March 6\, 2023\, starting at 11 AM for a day full of fun\, music\, and colour. \nOur event will feature three amazing DJs – DJ SAROJ\, DJ KABIN\, and DJ ELVIS\, who will keep you dancing to the latest and greatest beats. And what better way to celebrate the arrival of spring and the victory of good over evil than with the vibrant colours of Holi? So be prepared to get messy and colourful\, as we celebrate this beautiful festival with the traditional throwing of coloured powder and water. \nPlease note that booking is required for this event\, so don’t forget to secure your spot early to avoid disappointment. Come with your friends and family to enjoy a day full of fun\, music\, and Holi colours. \nWe can’t wait to celebrate “Holi Fest 2023” with you at Vinoliva Restaurant and Bar!
URL:https://vinolivarestaurant.com.np/event/holi-fest-2023/
LOCATION:Vinoliva Restaurant & Bar\, Vinoliva Restaurant and Bar\, Uttar Dhoka\, Lazimpat\, Kathmandu\, Bagmati\, 44600\, Nepal
CATEGORIES:Celebration,DJ Music,Event,Festival,Festive,Holi,Live Music
ATTACH;FMTTYPE=image/png:https://vinolivarestaurant.com.np/wp-content/uploads/2023/02/Holi-Fest-2023-Vinoliva-Restaurant-1.png
END:VEVENT
END:VCALENDAR